BEGIN:VCALENDAR
VERSION:2.0
CREATED:20260420T203612Z
PRODID:-//Liberty Broadband Corporation/Equisolve Calendar v1.0//EN
METHOD:PUBLISH
BEGIN:VEVENT
UID:2df54a4e5176b29113a5d0a3021893fb
DTSTAMP:20260421T114910Z
DTSTART:20260507T151500Z
DTEND:20260507T161500Z
SUMMARY:Liberty Broadband Corporation Q1 2026 Conference Call
DESCRIPTION:Liberty Broadband Corporation Q1 2026 Conference Call\n\nDate: May 7\, 2026 11:15 am EDT\n\nWebcast: https://event.choruscall.com/mediaframe/webcast.html?webcastid=Yg83CxSK
END:VEVENT
END:VCALENDAR
